BEGIN:VCALENDAR
VERSION:2.0
PRODID:-//KET - ECPv6.15.20//NONSGML v1.0//EN
CALSCALE:GREGORIAN
METHOD:PUBLISH
X-ORIGINAL-URL:https://ket.org
X-WR-CALDESC:Events for KET
REFRESH-INTERVAL;VALUE=DURATION:PT1H
X-Robots-Tag:noindex
X-PUBLISHED-TTL:PT1H
BEGIN:VTIMEZONE
TZID:America/Kentucky/Louisville
BEGIN:DAYLIGHT
TZOFFSETFROM:-0500
TZOFFSETTO:-0400
TZNAME:EDT
DTSTART:20180311T070000
END:DAYLIGHT
BEGIN:STANDARD
TZOFFSETFROM:-0400
TZOFFSETTO:-0500
TZNAME:EST
DTSTART:20181104T060000
END:STANDARD
BEGIN:DAYLIGHT
TZOFFSETFROM:-0500
TZOFFSETTO:-0400
TZNAME:EDT
DTSTART:20190310T070000
END:DAYLIGHT
BEGIN:STANDARD
TZOFFSETFROM:-0400
TZOFFSETTO:-0500
TZNAME:EST
DTSTART:20191103T060000
END:STANDARD
BEGIN:DAYLIGHT
TZOFFSETFROM:-0500
TZOFFSETTO:-0400
TZNAME:EDT
DTSTART:20200308T070000
END:DAYLIGHT
BEGIN:STANDARD
TZOFFSETFROM:-0400
TZOFFSETTO:-0500
TZNAME:EST
DTSTART:20201101T060000
END:STANDARD
END:VTIMEZONE
BEGIN:VEVENT
DTSTART;TZID=America/Kentucky/Louisville:20191013T130000
DTEND;TZID=America/Kentucky/Louisville:20191013T160000
DTSTAMP:20260423T145038
CREATED:20190716T130353Z
LAST-MODIFIED:20191016T152924Z
UID:10000177-1570971600-1570982400@ket.org
SUMMARY:Be My Neighbor Day
DESCRIPTION:  \n\n\n\nCome  “Be My Neighbor” in Louisville! Join KET on Sunday\, Oct. 13\, from 1 to 4 pm at Broad Run Park in Louisville for the 3rd annual “Be My Neighbor Day.”   This free family event — organized in partnership with PNC Bank and Fred Rogers Productions — builds on the values and themes presented in in Daniel Tiger’s Neighborhood and introduces children to caring neighbors and community helpers while teaching them the importance of giving back. KET is proud to partner with PNC’s Grow Up Great early childhood initiative as they celebrate their 15th anniversary. \n\nRegistration for this event is now closed. \nThis year’s event will feature: \n\nCrafts\nDaniel Tiger Meet & Greet\nHealthy Kids Corner featuring healthy snacks and hands-on activities\nMusic Corner featuring an instrument wall\, musical play\, and a live performance by Evan and Vanessa\nMeet Your Local Community Helpers featuring local police\, firefighters\, librarians\, and more\nMister Rogers’ Sweater Drive\nNature & Wildlife Corner featuring the Louisville Astronomical Society\, Plant-a-Seedling\, and Second Chances Wildlife Center\nPNC Mobile Learning Adventure\nQuiet Tent with iPads and award-winning PBS apps\n\nPNC and Fred Rogers Productions                                    \n\nKosair Charities and Snowy Owl Foundation                      \n\nHeartland Music Together\, Joe Hayden Real Estate Team\, Kentucky Association of Anesthetists\, Idlewild Butterfly Farm\, East Louisville Pediatrics           
URL:https://ket.org/event/be-my-neighbor-day/
LOCATION:Broad Run Park\, Louisville\, ky\, 10899 Bardstown Rd.\, Louisville\, 40291\, United States
CATEGORIES:Fund,Kids,Support
ATTACH;FMTTYPE=image/jpeg:https://portal.ketcloud.ket.org/20190716090118/Daniel-Tiger-logo-e1555960107949.jpg
GEO:38.0869791;-85.5557405
X-APPLE-STRUCTURED-LOCATION;VALUE=URI;X-ADDRESS=Broad Run Park Louisville ky 10899 Bardstown Rd. Louisville 40291 United States;X-APPLE-RADIUS=500;X-TITLE=10899 Bardstown Rd.:geo:-85.5557405,38.0869791
END:VEVENT
END:VCALENDAR