BEGIN:VCALENDAR
VERSION:2.0
PRODID:-//KET - ECPv6.15.20//NONSGML v1.0//EN
CALSCALE:GREGORIAN
METHOD:PUBLISH
X-WR-CALNAME:KET
X-ORIGINAL-URL:https://ket.org
X-WR-CALDESC:Events for KET
REFRESH-INTERVAL;VALUE=DURATION:PT1H
X-Robots-Tag:noindex
X-PUBLISHED-TTL:PT1H
BEGIN:VTIMEZONE
TZID:America/Kentucky/Louisville
BEGIN:DAYLIGHT
TZOFFSETFROM:-0500
TZOFFSETTO:-0400
TZNAME:EDT
DTSTART:20180311T070000
END:DAYLIGHT
BEGIN:STANDARD
TZOFFSETFROM:-0400
TZOFFSETTO:-0500
TZNAME:EST
DTSTART:20181104T060000
END:STANDARD
BEGIN:DAYLIGHT
TZOFFSETFROM:-0500
TZOFFSETTO:-0400
TZNAME:EDT
DTSTART:20190310T070000
END:DAYLIGHT
BEGIN:STANDARD
TZOFFSETFROM:-0400
TZOFFSETTO:-0500
TZNAME:EST
DTSTART:20191103T060000
END:STANDARD
BEGIN:DAYLIGHT
TZOFFSETFROM:-0500
TZOFFSETTO:-0400
TZNAME:EDT
DTSTART:20200308T070000
END:DAYLIGHT
BEGIN:STANDARD
TZOFFSETFROM:-0400
TZOFFSETTO:-0500
TZNAME:EST
DTSTART:20201101T060000
END:STANDARD
END:VTIMEZONE
BEGIN:VEVENT
DTSTART;TZID=America/Kentucky/Louisville:20190326T190000
DTEND;TZID=America/Kentucky/Louisville:20190716T220000
DTSTAMP:20260423T204554
CREATED:20190716T171011Z
LAST-MODIFIED:20190716T171011Z
UID:10000122-1553626800-1563314400@ket.org
SUMMARY:Red Green: This Could Be It! Tour
DESCRIPTION:Red Green: This Could Be It! Tour\nRed Green returns with a new live stage show that you won’t want to miss at the Taft Theatre in Cincinnati\, on Tuesday\, March 26\, 2019 at 7:00 pm. Join the president of the Possum Lodge for an evening of laughs and duct tape that you won’t soon forget. \nKET has great seats that were reserved for our donors before the tickets went on sale to the public and include a meet and greet opportunity with Red Green himself before the show. Tickets are limited and are available with a $150 donation to KET. Get your tickets now because\, “It might not be his last tour\, but why take the chance?”
URL:https://ket.org/event/red-green-this-could-be-it-tour/
LOCATION:Kentucky
CATEGORIES:Fund,Performances,Support
ATTACH;FMTTYPE=image/jpeg:https://portal.ketcloud.ket.org/20190716130951/red-green-2019-tour-poster-copy-small_orig.jpg
END:VEVENT
BEGIN:VEVENT
DTSTART;TZID=America/Kentucky/Louisville:20190616T133000
DTEND;TZID=America/Kentucky/Louisville:20190616T153000
DTSTAMP:20260423T204554
CREATED:20190716T154607Z
LAST-MODIFIED:20191016T160658Z
UID:10000192-1560691800-1560699000@ket.org
SUMMARY:Family Fun Club – Louisville Bats June Event
DESCRIPTION:It’s time for another Family Fun Club Event at Slugger Field\, home of the Louisville Bats. Bring the whole family to meet and take pictures with Buddy from Dinosaur Train before the game\, from 1:30 p.m. to 3:30 p.m.\n \nKET Family Fun Club members and viewers should purchase tickets in advance at Batsbaseball.com
URL:https://ket.org/event/family-fun-club-louisville-bats-june-event/
LOCATION:Louisville Slugger Field\, 401 E Main St.\, Louisville\, KY\, 40202\, United States
CATEGORIES:Fund,Kids,Support
ATTACH;FMTTYPE=image/jpeg:https://portal.ketcloud.ket.org/20190716095412/louisville-bats-logo800px-e1555964490781.jpg
GEO:38.2564367;-85.7445522
X-APPLE-STRUCTURED-LOCATION;VALUE=URI;X-ADDRESS=Louisville Slugger Field 401 E Main St. Louisville KY 40202 United States;X-APPLE-RADIUS=500;X-TITLE=401 E Main St.:geo:-85.7445522,38.2564367
END:VEVENT
END:VCALENDAR