BEGIN:VCALENDAR
VERSION:2.0
PRODID:-//KET - ECPv6.15.20//NONSGML v1.0//EN
CALSCALE:GREGORIAN
METHOD:PUBLISH
X-ORIGINAL-URL:https://ket.org
X-WR-CALDESC:Events for KET
REFRESH-INTERVAL;VALUE=DURATION:PT1H
X-Robots-Tag:noindex
X-PUBLISHED-TTL:PT1H
BEGIN:VTIMEZONE
TZID:America/Kentucky/Louisville
BEGIN:DAYLIGHT
TZOFFSETFROM:-0500
TZOFFSETTO:-0400
TZNAME:EDT
DTSTART:20170312T070000
END:DAYLIGHT
BEGIN:STANDARD
TZOFFSETFROM:-0400
TZOFFSETTO:-0500
TZNAME:EST
DTSTART:20171105T060000
END:STANDARD
BEGIN:DAYLIGHT
TZOFFSETFROM:-0500
TZOFFSETTO:-0400
TZNAME:EDT
DTSTART:20180311T070000
END:DAYLIGHT
BEGIN:STANDARD
TZOFFSETFROM:-0400
TZOFFSETTO:-0500
TZNAME:EST
DTSTART:20181104T060000
END:STANDARD
BEGIN:DAYLIGHT
TZOFFSETFROM:-0500
TZOFFSETTO:-0400
TZNAME:EDT
DTSTART:20190310T070000
END:DAYLIGHT
BEGIN:STANDARD
TZOFFSETFROM:-0400
TZOFFSETTO:-0500
TZNAME:EST
DTSTART:20191103T060000
END:STANDARD
BEGIN:DAYLIGHT
TZOFFSETFROM:-0500
TZOFFSETTO:-0400
TZNAME:EDT
DTSTART:20200308T070000
END:DAYLIGHT
BEGIN:STANDARD
TZOFFSETFROM:-0400
TZOFFSETTO:-0500
TZNAME:EST
DTSTART:20201101T060000
END:STANDARD
END:VTIMEZONE
BEGIN:VEVENT
DTSTART;TZID=America/Kentucky/Louisville:20180227T190000
DTEND;TZID=America/Kentucky/Louisville:20190227T210000
DTSTAMP:20260424T031543
CREATED:20190717T131950Z
LAST-MODIFIED:20190814T141140Z
UID:10000202-1519758000-1551301200@ket.org
SUMMARY:Daniel O’Donnell at The Fabulous Fox Theatre
DESCRIPTION:One of Ireland’s best loved artists\, Daniel O’Donnell returns to tour in the USA with his Back Home Again Tour. Daniel burst into superstardom in the USA back in 2002 with his first ever PBS special – The Daniel O’Donnell Show. That began a special relationship between Daniel and PBS and since then\, he has recorded a further twelve specials\, including ‘Stand Beside Me’ in 2013. The Irish singer made record-breaking chart history earlier this year by becoming the first recording artist in the history of the UK Artist Album Chart to have charted at least one new album every year since 1988\, an unprecedented and unbroken 29 year span\, surpassing everyone from Michael Jackson\, the Rolling Stones\, Madonna and Irish strongholds U2. Tickets available with a one-time credit card donation of $125/person. \nGet Tickets
URL:https://ket.org/event/daniel-odonnell-at-the-fabulous-fox-theatre/
LOCATION:The Fabulous Fox Theatre\, 527 N Grand Blvd.\, St. Louis\, MO\, 63103\, United States
CATEGORIES:Fund,Fundraisers,Performances,Support
GEO:38.6390719;-90.2323081
X-APPLE-STRUCTURED-LOCATION;VALUE=URI;X-ADDRESS=The Fabulous Fox Theatre 527 N Grand Blvd. St. Louis MO 63103 United States;X-APPLE-RADIUS=500;X-TITLE=527 N Grand Blvd.:geo:-90.2323081,38.6390719
END:VEVENT
BEGIN:VEVENT
DTSTART;TZID=America/Kentucky/Louisville:20181206T193000
DTEND;TZID=America/Kentucky/Louisville:20181206T230000
DTSTAMP:20260424T031543
CREATED:20190716T180034Z
LAST-MODIFIED:20190716T180034Z
UID:10000198-1544124600-1544137200@ket.org
SUMMARY:Trans-Siberian Orchestra Holiday Program
DESCRIPTION:Trans-Siberian Orchestra\nTrans-Siberian Orchestra’s annual November-December multi-sensory extravaganza\, which sells out venues year after year\, has cemented the group’s status as a must-attend\, multi-generational\, holiday tradition.\nFor this year’s 20th-anniversary tour\, fans will be delighted with the presentation of TSO’s unforgettable “The Ghosts of Christmas Eve\,” which features founder/composer/lyricist Paul O’Neill’s timeless story of a runaway who finds her way into a mysterious\, abandoned theater. This tour will also boast a rousing second set containing more of TSO’s greatest hits and fan-pleasers.
URL:https://ket.org/event/trans-siberian-orchestra-holiday-program/
LOCATION:Rupp Arena\, 432 West Vine Street\, LEXINGTON\, KY\, 40507\, United States
CATEGORIES:Fund,Performances,Support
ATTACH;FMTTYPE=image/jpeg:https://portal.ketcloud.ket.org/20190716140010/tsog__800px.jpg
GEO:38.0494501;-84.502001
X-APPLE-STRUCTURED-LOCATION;VALUE=URI;X-ADDRESS=Rupp Arena 432 West Vine Street LEXINGTON KY 40507 United States;X-APPLE-RADIUS=500;X-TITLE=432 West Vine Street:geo:-84.502001,38.0494501
END:VEVENT
END:VCALENDAR