BEGIN:VCALENDAR
VERSION:2.0
PRODID:-//KET - ECPv6.15.20//NONSGML v1.0//EN
CALSCALE:GREGORIAN
METHOD:PUBLISH
X-ORIGINAL-URL:https://ket.org
X-WR-CALDESC:Events for KET
REFRESH-INTERVAL;VALUE=DURATION:PT1H
X-Robots-Tag:noindex
X-PUBLISHED-TTL:PT1H
BEGIN:VTIMEZONE
TZID:America/Kentucky/Louisville
BEGIN:DAYLIGHT
TZOFFSETFROM:-0500
TZOFFSETTO:-0400
TZNAME:EDT
DTSTART:20210314T070000
END:DAYLIGHT
BEGIN:STANDARD
TZOFFSETFROM:-0400
TZOFFSETTO:-0500
TZNAME:EST
DTSTART:20211107T060000
END:STANDARD
BEGIN:DAYLIGHT
TZOFFSETFROM:-0500
TZOFFSETTO:-0400
TZNAME:EDT
DTSTART:20220313T070000
END:DAYLIGHT
BEGIN:STANDARD
TZOFFSETFROM:-0400
TZOFFSETTO:-0500
TZNAME:EST
DTSTART:20221106T060000
END:STANDARD
BEGIN:DAYLIGHT
TZOFFSETFROM:-0500
TZOFFSETTO:-0400
TZNAME:EDT
DTSTART:20230312T070000
END:DAYLIGHT
BEGIN:STANDARD
TZOFFSETFROM:-0400
TZOFFSETTO:-0500
TZNAME:EST
DTSTART:20231105T060000
END:STANDARD
BEGIN:DAYLIGHT
TZOFFSETFROM:-0500
TZOFFSETTO:-0400
TZNAME:EDT
DTSTART:20240310T070000
END:DAYLIGHT
BEGIN:STANDARD
TZOFFSETFROM:-0400
TZOFFSETTO:-0500
TZNAME:EST
DTSTART:20241103T060000
END:STANDARD
BEGIN:DAYLIGHT
TZOFFSETFROM:-0500
TZOFFSETTO:-0400
TZNAME:EDT
DTSTART:20250309T070000
END:DAYLIGHT
BEGIN:STANDARD
TZOFFSETFROM:-0400
TZOFFSETTO:-0500
TZNAME:EST
DTSTART:20251102T060000
END:STANDARD
END:VTIMEZONE
BEGIN:VEVENT
DTSTART;TZID=America/Kentucky/Louisville:20221029T193000
DTEND;TZID=America/Kentucky/Louisville:20221029T220000
DTSTAMP:20260423T045412
CREATED:20220815T204219Z
LAST-MODIFIED:20221025T044000Z
UID:10000226-1667071800-1667080800@ket.org
SUMMARY:The Drifters at Lexington’s Historic Lyric Theatre
DESCRIPTION:Shake\, rattle and roll with The Drifters!\nCelebrate the 12th anniversary of the Lyric Theatre’s reopening (in 2010) at this concert by the legendary Rock and Roll Hall of Famers\, The Drifters! Let the music move your soul with hit after hit\, from “Up on the Roof” to “Under the Boardwalk.” \nThe Drifters’ songs have been penned by such legendary songwriters as Jerry Leiber and Mike Stoller\, Carole King\, Jerry Goffin and Phil Spector. They played at the White House on three occasions; gave a benefit concert in Berlin the day the wall fell; performed for the Pope\, the Queen of England\, and Nelson Mandela; and toured the world for the USO in three war zones\, from Korea to Iraq. Behind it all was George Treadwell and his family\, guiding the career of this historic group. \n \n\nTickets\n\nTickets are no longer available through KET. Please visit the venue’s website for availability: www.lexingtonlyric.tix.com.
URL:https://ket.org/event/the-drifters-at-lexingtons-historic-lyric-theatre/
LOCATION:The Lyric Theatre & Cultural Arts Center\, 300 E Third St\, Lexington\, KY\, 40508\, United States
CATEGORIES:Arts,Fund,Kentucky,Living,Music,Performances,Support
ATTACH;FMTTYPE=image/jpeg:https://portal.ketcloud.ket.org/20220816092157/The-Drifters1-16x9-1.jpg
GEO:38.0460318;-84.4893186
X-APPLE-STRUCTURED-LOCATION;VALUE=URI;X-ADDRESS=The Lyric Theatre & Cultural Arts Center 300 E Third St Lexington KY 40508 United States;X-APPLE-RADIUS=500;X-TITLE=300 E Third St:geo:-84.4893186,38.0460318
END:VEVENT
BEGIN:VEVENT
DTSTART;TZID=America/Kentucky/Louisville:20230121T160000
DTEND;TZID=America/Kentucky/Louisville:20230121T190000
DTSTAMP:20260423T045412
CREATED:20221104T144535Z
LAST-MODIFIED:20230120T172223Z
UID:10000234-1674316800-1674327600@ket.org
SUMMARY:The Farmer\, The Foodie\, and You!
DESCRIPTION:Join Maggie Keith and Lindsey McClave in the kitchen for an up-close-and-personal\, interactive cooking demonstration. \nThe hosts will prepare their favorite winter recipes featuring locally-sourced ingredients\, and you’ll be supporting KET as you share food\, drink and merriment! Tickets include dinner\, appetizers and beverages – the perfect gift for the food and wine lover in your life! \nTickets are no longer available for this event.
URL:https://ket.org/event/farmer-and-the-foodie-pledge-event/
LOCATION:Dare to Care Community Kitchen Classroom\, 1200 South 28th Street\, Louisville\, KY\, 40211\, United States
CATEGORIES:Fund,Fundraisers,Kentucky,Living
ATTACH;FMTTYPE=image/jpeg:https://portal.ketcloud.ket.org/20221118141618/ff-1440.jpg
GEO:38.2378019;-85.8006962
X-APPLE-STRUCTURED-LOCATION;VALUE=URI;X-ADDRESS=Dare to Care Community Kitchen Classroom 1200 South 28th Street Louisville KY 40211 United States;X-APPLE-RADIUS=500;X-TITLE=1200 South 28th Street:geo:-85.8006962,38.2378019
END:VEVENT
BEGIN:VEVENT
DTSTART;TZID=America/Kentucky/Louisville:20241130T140000
DTEND;TZID=America/Kentucky/Louisville:20241130T170000
DTSTAMP:20260423T045412
CREATED:20241108T201526Z
LAST-MODIFIED:20241114T154054Z
UID:10000280-1732975200-1732986000@ket.org
SUMMARY:Holiday Kitchen Kick-Off with The Farmer & The Foodie
DESCRIPTION:Join The Farmer & The Foodie hosts Maggie Keith and Lindsey McClave for a cozy afternoon in the kitchen!\n\n\n\nSaturday\, November 30th\, they’ll be preparing a seasonal recipe in the beautiful demo kitchen at Bourbon Barrel Foods.  \n\n\n\nAttendees will receive a limited-edition gift perfect for your holiday festivities! \n\n\n\nThis event is full\, but please check back for more events in 2025! \n\n\n\n\n\n\n\n\n\n\n\n\n\n\n\nRegistration\n\n\n\nRegistration for this event is now closed.
URL:https://ket.org/event/holiday-kitchen-kick-off-with-the-farmer-the-foodie/
LOCATION:Bourbon Barrel Foods\, 1201 Story Avenue\, Ste 175\, Louisville\, Kentucky\, 40206
CATEGORIES:Living
ATTACH;FMTTYPE=image/png:https://portal.ketcloud.ket.org/20220425112329/FF-hero-image-scaled.jpg
END:VEVENT
END:VCALENDAR