BEGIN:VCALENDAR
VERSION:2.0
PRODID:-//KET - ECPv6.15.20//NONSGML v1.0//EN
CALSCALE:GREGORIAN
METHOD:PUBLISH
X-WR-CALNAME:KET
X-ORIGINAL-URL:https://ket.org
X-WR-CALDESC:Events for KET
REFRESH-INTERVAL;VALUE=DURATION:PT1H
X-Robots-Tag:noindex
X-PUBLISHED-TTL:PT1H
BEGIN:VTIMEZONE
TZID:America/Kentucky/Louisville
BEGIN:DAYLIGHT
TZOFFSETFROM:-0500
TZOFFSETTO:-0400
TZNAME:EDT
DTSTART:20200308T070000
END:DAYLIGHT
BEGIN:STANDARD
TZOFFSETFROM:-0400
TZOFFSETTO:-0500
TZNAME:EST
DTSTART:20201101T060000
END:STANDARD
BEGIN:DAYLIGHT
TZOFFSETFROM:-0500
TZOFFSETTO:-0400
TZNAME:EDT
DTSTART:20210314T070000
END:DAYLIGHT
BEGIN:STANDARD
TZOFFSETFROM:-0400
TZOFFSETTO:-0500
TZNAME:EST
DTSTART:20211107T060000
END:STANDARD
BEGIN:DAYLIGHT
TZOFFSETFROM:-0500
TZOFFSETTO:-0400
TZNAME:EDT
DTSTART:20220313T070000
END:DAYLIGHT
BEGIN:STANDARD
TZOFFSETFROM:-0400
TZOFFSETTO:-0500
TZNAME:EST
DTSTART:20221106T060000
END:STANDARD
END:VTIMEZONE
BEGIN:VEVENT
DTSTART;TZID=America/Kentucky/Louisville:20210916T190000
DTEND;TZID=America/Kentucky/Louisville:20210916T201500
DTSTAMP:20260422T192747
CREATED:20210910T143736Z
LAST-MODIFIED:20230627T210008Z
UID:10000145-1631818800-1631823300@ket.org
SUMMARY:‘Muhammad Ali’: A Kentucky Conversation
DESCRIPTION:Join Us Online\n‘Muhammad Ali’: A Kentucky Conversation will premiere on Facebook and YouTube on Thursday\, September 16 at 7/6 pm.\n\nThe event will feature a panel discussion moderated by KET’s Renee Shaw\, reflecting on Ali’s life and impact. Guests include Carlos Dixon (professional boxer)\, Alice and Wade Houston (HJI Supply Chain Solutions) and Tori Murden McClure (Spalding University).\n\nThe Muhammad Ali filmmakers will also share their excitement about their upcoming documentary ahead of its premiere on KET on Sunday\, September 19.\n\nWatch Now\n\n__________\n\nIf you are unable to join for this live event\, you can watch an edited version of it on air.\n\nKET Saturday\, September 18 | 5/4 pm\nKET Sunday\, September 19 | 7/6 pm\n\n\n\nOur Sponsors and Patrons\nMany thanks to our sponsors for their generous support.\n\n 	\n\n 	Premier Sponsor: Alltech\n\n\n\n\n\n 	\n\n 	Sponsors: Brooke Brown Barzun\, Owsley Brown III\, Augusta Brown Holland\, Cave Hill Cemetery\, Nana Lampton\n\n\n\n\n\n 	\n\n 	Patrons: McBrayer PLLC\, Steve & Amy Trager\, University of Louisville\n\n\n\n   \n\n\n\nCorporate funding for MUHAMMAD ALI was provided by Bank of America. Major funding was provided by David M. Rubenstein. Major funding was also provided by The Arthur Vining Davis Foundations\, the Corporation for Public Broadcasting\, and by The Better Angels Society and by its members Alan and Marcia Docter; Mr. and Mrs. Paul Tudor Jones; The Fullerton Family Charitable Fund; Gilchrist and Amy Berg; The Brooke Brown Barzun Philanthropic Foundation\, The Owsley Brown III Philanthropic Foundation and The Augusta Brown Holland Philanthropic Foundation; Perry and Donna Golkin; John and Leslie McQuown; John and Catherine Debs; Fred and Donna Seigel; Susan and John Wieland; Stuart and Joanna Brown; Diane and Hal Brierley; Fiddlehead Fund; Rocco and Debby Landesman; McCloskey Family Charitable Trust; Mauree Jane and Mark Perry; and Donna and Richard Strong. And by viewers like you.\n\nMuhammad Ali Premiere Week sponsors include Alltech\, Brooke Brown Barzun\, Owsley Brown III\, and Augusta Brown Holland\, Cave Hill Cemetery\, Nana Lampton\, McBrayer PLCC\, Steve & Amy Trager\, and the University of Louisville. Presentation underwriters for the Muhammad Ali series are Alltech\, Kentucky Historical Society and the Kentucky Lottery.
URL:https://ket.org/event/muhammad-ali-a-kentucky-conversation/
LOCATION:Kentucky
CATEGORIES:History,Kentucky,Living
ATTACH;FMTTYPE=image/jpeg:https://portal.ketcloud.ket.org/20210910114207/Muhammad-Ali-A-Kentucky-Conversation-hero.jpg
ORGANIZER;CN="KET":MAILTO:events@ket.org
END:VEVENT
END:VCALENDAR