BEGIN:VCALENDAR
VERSION:2.0
PRODID:-//KET - ECPv6.15.20//NONSGML v1.0//EN
CALSCALE:GREGORIAN
METHOD:PUBLISH
X-ORIGINAL-URL:https://ket.org
X-WR-CALDESC:Events for KET
REFRESH-INTERVAL;VALUE=DURATION:PT1H
X-Robots-Tag:noindex
X-PUBLISHED-TTL:PT1H
BEGIN:VTIMEZONE
TZID:America/Kentucky/Louisville
BEGIN:DAYLIGHT
TZOFFSETFROM:-0500
TZOFFSETTO:-0400
TZNAME:EDT
DTSTART:20200308T070000
END:DAYLIGHT
BEGIN:STANDARD
TZOFFSETFROM:-0400
TZOFFSETTO:-0500
TZNAME:EST
DTSTART:20201101T060000
END:STANDARD
BEGIN:DAYLIGHT
TZOFFSETFROM:-0500
TZOFFSETTO:-0400
TZNAME:EDT
DTSTART:20210314T070000
END:DAYLIGHT
BEGIN:STANDARD
TZOFFSETFROM:-0400
TZOFFSETTO:-0500
TZNAME:EST
DTSTART:20211107T060000
END:STANDARD
BEGIN:DAYLIGHT
TZOFFSETFROM:-0500
TZOFFSETTO:-0400
TZNAME:EDT
DTSTART:20220313T070000
END:DAYLIGHT
BEGIN:STANDARD
TZOFFSETFROM:-0400
TZOFFSETTO:-0500
TZNAME:EST
DTSTART:20221106T060000
END:STANDARD
END:VTIMEZONE
BEGIN:VEVENT
DTSTART;TZID=America/Kentucky/Louisville:20210430T000000
DTEND;TZID=America/Kentucky/Louisville:20210502T233000
DTSTAMP:20260423T004412
CREATED:20210428T195210Z
LAST-MODIFIED:20250430T202657Z
UID:10000138-1619740800-1619998200@ket.org
SUMMARY:Family Fun Club: Donkey Hodie Online Preview
DESCRIPTION:A new series for preschoolers!Donkey Hodie\, a new series inspired by characters from Mister Rogers’ Neighborhood\, is coming to KET! Donkey Hodie and her friends will empower kids to dream big\, work hard and come up with creative solutions to the everyday problems they encounter. \n\n\n\nKET has an exclusive preview of the show\, just for Family Fun Club members!From April 30 to May 2\, watch an episode of Donkey Hodie through a private link! You will also have access to activities and coloring pages to print at home\, on demand. \n\n\n\n\n\n\nCurrent members: Watch for your access email\, coming April 30!\n\n\n\nNot yet a member? Join by April 29 to receive your email access!\n\n\n\n\n\n\nAbout your membershipYour membership supports KET programs – vital to families statewide\, with children of all ages – and opens the door to a variety of KET benefits that help you and yours while you’re healthy at home. \n\n\n\nKET Family Fun Club membership also provides your family with a subscription to Visions magazine\, access to KET Passport (with thousands of hours of on-demand streaming)\, and the KET Parenting e-newsletter. Submit the names and birthdates of up to four children\, and we’ll send each one a welcome packet of fun and educational activities now\, then a birthday card and a special on-air greeting the week of their birthday! \n\n\n\nQuestions?Contact the KET Membership team at membership@ket.org or 800-866-0366.
URL:https://ket.org/event/family-fun-club-donkey-hodie-online-preview/
LOCATION:Kentucky
CATEGORIES:Kentucky,Kids,Living
ATTACH;FMTTYPE=image/jpeg:https://portal.ketcloud.ket.org/20210427155552/Donkey-Hodie-and-Purple-Panda.jpg
END:VEVENT
END:VCALENDAR