BEGIN:VCALENDAR
VERSION:2.0
PRODID:-//KET - ECPv6.15.20//NONSGML v1.0//EN
CALSCALE:GREGORIAN
METHOD:PUBLISH
X-WR-CALNAME:KET
X-ORIGINAL-URL:https://ket.org
X-WR-CALDESC:Events for KET
REFRESH-INTERVAL;VALUE=DURATION:PT1H
X-Robots-Tag:noindex
X-PUBLISHED-TTL:PT1H
BEGIN:VTIMEZONE
TZID:America/Kentucky/Louisville
BEGIN:DAYLIGHT
TZOFFSETFROM:-0500
TZOFFSETTO:-0400
TZNAME:EDT
DTSTART:20210314T070000
END:DAYLIGHT
BEGIN:STANDARD
TZOFFSETFROM:-0400
TZOFFSETTO:-0500
TZNAME:EST
DTSTART:20211107T060000
END:STANDARD
BEGIN:DAYLIGHT
TZOFFSETFROM:-0500
TZOFFSETTO:-0400
TZNAME:EDT
DTSTART:20220313T070000
END:DAYLIGHT
BEGIN:STANDARD
TZOFFSETFROM:-0400
TZOFFSETTO:-0500
TZNAME:EST
DTSTART:20221106T060000
END:STANDARD
BEGIN:DAYLIGHT
TZOFFSETFROM:-0500
TZOFFSETTO:-0400
TZNAME:EDT
DTSTART:20230312T070000
END:DAYLIGHT
BEGIN:STANDARD
TZOFFSETFROM:-0400
TZOFFSETTO:-0500
TZNAME:EST
DTSTART:20231105T060000
END:STANDARD
BEGIN:DAYLIGHT
TZOFFSETFROM:-0500
TZOFFSETTO:-0400
TZNAME:EDT
DTSTART:20240310T070000
END:DAYLIGHT
BEGIN:STANDARD
TZOFFSETFROM:-0400
TZOFFSETTO:-0500
TZNAME:EST
DTSTART:20241103T060000
END:STANDARD
BEGIN:DAYLIGHT
TZOFFSETFROM:-0500
TZOFFSETTO:-0400
TZNAME:EDT
DTSTART:20250309T070000
END:DAYLIGHT
BEGIN:STANDARD
TZOFFSETFROM:-0400
TZOFFSETTO:-0500
TZNAME:EST
DTSTART:20251102T060000
END:STANDARD
BEGIN:DAYLIGHT
TZOFFSETFROM:-0500
TZOFFSETTO:-0400
TZNAME:EDT
DTSTART:20260308T070000
END:DAYLIGHT
BEGIN:STANDARD
TZOFFSETFROM:-0400
TZOFFSETTO:-0500
TZNAME:EST
DTSTART:20261101T060000
END:STANDARD
END:VTIMEZONE
BEGIN:VEVENT
DTSTART;TZID=America/Kentucky/Louisville:20220925T120000
DTEND;TZID=America/Kentucky/Louisville:20220925T160000
DTSTAMP:20260424T055631
CREATED:20220622T174839Z
LAST-MODIFIED:20230405T153745Z
UID:10000222-1664107200-1664121600@ket.org
SUMMARY:Be My Neighbor Day Fall 2022
DESCRIPTION:Thank you for being our neighbor!\nKET’s 6th annual Be My Neighbor Day was a beautiful day in the neighborhood thanks to our guests\, community partners\, and sponsors!\n\nWe look forward to seeing you at the next Be My Neighbor Day—stay tuned for more info on a date and location! Sign up to be notified of this and other great KET family events.\n\nIn the meantime\, enjoy photos from the event below. Thank you for your support of KET!\n\n\n\nPhoto album\nClick on a photo to enlarge it:\n\n\n		\n		\n			\n				\n			\n			\n				\n			\n			\n				\n			\n			\n				\n			\n			\n				\n			\n			\n				\n			\n			\n				\n			\n			\n				\n			\n			\n				\n			\n			\n				\n			\n			\n				\n			\n			\n				\n			\n			\n				\n			\n			\n				\n			\n			\n				\n			\n			\n				\n			\n			\n				\n			\n			\n				\n			\n			\n				\n			\n			\n				\n			\n			\n				\n			\n			\n				\n			\n			\n				\n			\n			\n				\n			\n			\n				\n			\n			\n				\n			\n			\n				\n			\n			\n				\n			\n			\n		\n\n\n\n\nThanks to our generous sponsors!\n\n\n 	\n\n 	Presenting Sponsors:\n\n\n\n\n\n\n\n\n 	\n\n 	Additional support provided by:\n   \n\n\n\n\n 	Community Partners\n\n 	\n\n 	Creative Family Counseling\n 	Hwang’s Martial Arts\n 	Kentucky Association of Nurse Anesthetists\n 	Kentucky Derby Museum\n 	Kentucky Science Center\n 	LearningRx\n 	Louisville Astronomical Society\n 	Louisville Ballet\n 	Louisville Free Public Library\n 	Louisville Nature Center\n 	Louisville Zoo\n 	Norton Healthcare
URL:https://ket.org/event/be-my-neighbor-day-2022/
CATEGORIES:Fund,Kentucky,Kids
ATTACH;FMTTYPE=image/jpeg:https://portal.ketcloud.ket.org/20220203121927/hero-image.jpg
END:VEVENT
BEGIN:VEVENT
DTSTART;TZID=America/Kentucky/Louisville:20221018T170000
DTEND;TZID=America/Kentucky/Louisville:20221018T193000
DTSTAMP:20260424T055631
CREATED:20220919T194832Z
LAST-MODIFIED:20230131T194306Z
UID:10000231-1666112400-1666121400@ket.org
SUMMARY:Sesame Street Live! Make Your Magic
DESCRIPTION:A Magical Adventure!\nJoin your favorite Sesame Street friends for a magical adventure when Sesame Street Live! Make Your Magic visits your neighborhood.\n\nElmo and Abby Cadabby team up to learn how determination and practice are the best ways to reach their goals. Along the way\, they are joined by Cookie Monster\, Big Bird\, Grover\, Count and Rosita to discover that it’s okay to make mistakes and real magic can be found when you believe in yourself. With high-energy dancing and an introduction to the art of illusion\, you’ll enjoy every magical moment with your family and friends.\n\nExperience this event with KET supporters like you\, in the first eight rows of Section 22 of Rupp Arena in Lexington! Get your tickets with a donation today and know that you are funding KET programs and services throughout the state of Kentucky and beyond.\n\nNote: Costumes are not permitted for guests 14 years and older.\n\n\n\nMark Your Calendars\n\n 	Tuesday\, October 18\, 2022 | 5:00 pm ET\n 	Rupp Arena (See address and map below.)\n 	Lexington\, Kentucky\n\n\n\n\nReservations\n\n 	Tickets: $60 for a pair of tickets\n 	Your seats will be in the first eight rows of Section 22 of Lexington’s Rupp Arena.\n 	An email address is required for ticket e-delivery.\n\nGet Tickets Now
URL:https://ket.org/event/sesame-street-live-make-your-magic/
LOCATION:Rupp Arena\, 432 West Vine Street\, LEXINGTON\, KY\, 40507\, United States
CATEGORIES:Fund,Kentucky,Kids
ATTACH;FMTTYPE=image/jpeg:https://portal.ketcloud.ket.org/20220919153753/Sesame-Street-Live-Make-Your-Magic-1920x1080-1.jpg
GEO:38.0494501;-84.502001
X-APPLE-STRUCTURED-LOCATION;VALUE=URI;X-ADDRESS=Rupp Arena 432 West Vine Street LEXINGTON KY 40507 United States;X-APPLE-RADIUS=500;X-TITLE=432 West Vine Street:geo:-84.502001,38.0494501
END:VEVENT
BEGIN:VEVENT
DTSTART;TZID=America/Kentucky/Louisville:20230916T100000
DTEND;TZID=America/Kentucky/Louisville:20230916T120000
DTSTAMP:20260424T055631
CREATED:20230831T190123Z
LAST-MODIFIED:20230906T120830Z
UID:10000256-1694858400-1694865600@ket.org
SUMMARY:Be My Neighbor Day 2023 (Lexington)
DESCRIPTION:About the event\n\n\n\nKET Education will host a Daniel Tiger Be My Neighbor Day in partnership with PNC and Lexington Public Library on Saturday\, September 16th from 10 am to 12 pm at the Eastside library branch. The free family event builds on the values and themes presented in Daniel Tiger’s Neighborhood and introduces children to caring neighbors and community helpers while teaching them the importance of giving back. \n\n\n\n\n\n\n\nPlan to join us\n\n\n\n\nWhen: Saturday\, September 16\, 2023 | 10 am to noon\n\n\n\nWhere: Lexington Public Library\, Eastside Branch | 3000 Blake James Drive | Lexington\, KY 40509\n\n\n\n\n\n\n\n\nRegistration\n\n\n\nBy attending this event\, you acknowledge that KET may take photos and video of you and your child(ren) and that they may be used for promotional purposes. \n\n\n\n\n\n\nHow did you hear about Be My Neighbor Day?:\nKET Website\nEmail\nLexington Public Library Website\nFlier\nSocial Media\nOther\n\n\n \n\nEmail:\n\n\nFirst name:\n\n\nLast name:\n\n\nZip:\n\n\nHow many children?:\n\n\nHow many adults?:\n\nHave you attended Be My Neighbor Day previously?:\nYes\nNo\n\n\n\n\n\n\n\n\n\n\n\n\n\nDon’t miss out!\n\n\n\nSign up to be notified of other great KET family events.
URL:https://ket.org/event/be-my-neighbor-day-2023-lexington/
LOCATION:Lexington Public Library\, Eastside Branch\, 3000 Blake James Drive\, Lexington\, Kentucky\, 40509
CATEGORIES:Kids
ATTACH;FMTTYPE=image/jpeg:https://portal.ketcloud.ket.org/20230815180042/hero-image.jpg
END:VEVENT
BEGIN:VEVENT
DTSTART;TZID=America/Kentucky/Louisville:20250928T120000
DTEND;TZID=America/Kentucky/Louisville:20250928T150000
DTSTAMP:20260424T055631
CREATED:20240715T210926Z
LAST-MODIFIED:20251007T160020Z
UID:10000273-1759060800-1759071600@ket.org
SUMMARY:Be My Neighbor Day 2025 (Louisville)
DESCRIPTION:Thanks\, Neighbors!\n\n\n\nThank you for joining KET in partnership with Fred Rogers Productions and PNC Grow Up Great at the 9th annual Be My Neighbor Day on Sunday\, September 28th.  \n\n\n\nWithout the support of community partners\, we could not have served the more than 1\,000 neighbors who enjoyed this special day in the neighborhood! Check back for more updates on next year’s event. We look forward to seeing you! \n\n\n\n \n\n\n\n\n\nSupport provided by:\n\n\n\n\n\n\n\n\n\n\n\n\n\n\n\nAdditional support provided by:\n\n\n\n\n\n\n\n\n\n\n\n\n\n\n\n\n\n\n\n\n\n\n\n\n\n\n\n\n\n\n\n\n\n\n\nOther Community Partners:\n\n\n\nAnchorage Middletown Fire & EMS | Kentucky Humane Society | Kentucky Science Center | KMAC | Louisville Astronomical Society | Louisville Free Public Library | Louisville Nature Center | Louisville Orchestra | Portland Museum/AHOY Children’s Museum | Pure Tap | Squallis Puppeteers | and many more! \n\n\n\n\n\n\n\nVenue:\n\n\n\n\n\n\n\n\n\n2025 photo album:
URL:https://ket.org/event/be-my-neighbor-day-2025-louisville/
LOCATION:E.P. Tom Sawyer State Park\, 3000 Freys Hill Rd\, Louisville\, Kentucky\, 40241
CATEGORIES:Fund,Kentucky,Kids
ATTACH;FMTTYPE=image/jpeg:https://portal.ketcloud.ket.org/20250827163939/BMND-2025.jpg
END:VEVENT
END:VCALENDAR