BEGIN:VCALENDAR
VERSION:2.0
PRODID:-//KET - ECPv6.15.20//NONSGML v1.0//EN
CALSCALE:GREGORIAN
METHOD:PUBLISH
X-WR-CALNAME:KET
X-ORIGINAL-URL:https://ket.org
X-WR-CALDESC:Events for KET
REFRESH-INTERVAL;VALUE=DURATION:PT1H
X-Robots-Tag:noindex
X-PUBLISHED-TTL:PT1H
BEGIN:VTIMEZONE
TZID:America/Kentucky/Louisville
BEGIN:DAYLIGHT
TZOFFSETFROM:-0500
TZOFFSETTO:-0400
TZNAME:EDT
DTSTART:20210314T070000
END:DAYLIGHT
BEGIN:STANDARD
TZOFFSETFROM:-0400
TZOFFSETTO:-0500
TZNAME:EST
DTSTART:20211107T060000
END:STANDARD
BEGIN:DAYLIGHT
TZOFFSETFROM:-0500
TZOFFSETTO:-0400
TZNAME:EDT
DTSTART:20220313T070000
END:DAYLIGHT
BEGIN:STANDARD
TZOFFSETFROM:-0400
TZOFFSETTO:-0500
TZNAME:EST
DTSTART:20221106T060000
END:STANDARD
BEGIN:DAYLIGHT
TZOFFSETFROM:-0500
TZOFFSETTO:-0400
TZNAME:EDT
DTSTART:20230312T070000
END:DAYLIGHT
BEGIN:STANDARD
TZOFFSETFROM:-0400
TZOFFSETTO:-0500
TZNAME:EST
DTSTART:20231105T060000
END:STANDARD
END:VTIMEZONE
BEGIN:VEVENT
DTSTART;TZID=America/Kentucky/Louisville:20221007T200000
DTEND;TZID=America/Kentucky/Louisville:20221007T223000
DTSTAMP:20260421T190841
CREATED:20220816T094616Z
LAST-MODIFIED:20230816T192352Z
UID:10000227-1665172800-1665181800@ket.org
SUMMARY:Little Feat at the Lexington Opera House
DESCRIPTION:Experience Little Feat’s “Waiting for Columbus” tour\nLittle Feat‘s sound is a fusion of many styles and musical genres made into something utterly distinctive.\n\nTheir brilliant musicianship transcends boundaries uniting California rock\, funk\, folk\, jazz\, country\, New Orleans swamp-boogie and rockabilly into a rich gumbo\, that has been leading people in joyful dance ever since. Their Waiting for Columbus is widely regarded as one of the best live albums in rock history.\n\nFifty years on\, they’ve been up and they’ve been down and they know where they belong—behind their instruments\, playing for you. And anything’s possible because the end is not in sight. The current line-up of Little Feat in 2022 is: Bill Payne\, Keyboards and Vocals; Sam Clayton\, Percussion and Vocals; Fred Tackett\, Guitars and Vocals; Kenny Gradney\, Bass; Scott Sharrard\, Guitars and Vocals; and Tony Leone\, drums.\n\nExperience their “Waiting for Columbus” tour at the Lexington Opera House in orchestra-level seats.\n\n\n\nTickets\nGet your tickets with a donation today and know that you are funding KET programs and services throughout the state of Kentucky and beyond.\n\nTickets are available for a donation of $150 per ticket. Tickets will be emailed two weeks prior to the event.\nGet Tickets Now
URL:https://ket.org/event/little-feat-at-the-lexington-opera-house/
LOCATION:Kentucky
CATEGORIES:Arts,Fund,History,Kentucky,Living,Music,Performances,Support
ATTACH;FMTTYPE=image/jpeg:https://portal.ketcloud.ket.org/20220815175542/little-feat-larger.jpg
END:VEVENT
END:VCALENDAR