BEGIN:VCALENDAR
VERSION:2.0
PRODID:-//KET - ECPv6.15.20//NONSGML v1.0//EN
CALSCALE:GREGORIAN
METHOD:PUBLISH
X-WR-CALNAME:KET
X-ORIGINAL-URL:https://ket.org
X-WR-CALDESC:Events for KET
REFRESH-INTERVAL;VALUE=DURATION:PT1H
X-Robots-Tag:noindex
X-PUBLISHED-TTL:PT1H
BEGIN:VTIMEZONE
TZID:America/Kentucky/Louisville
BEGIN:DAYLIGHT
TZOFFSETFROM:-0500
TZOFFSETTO:-0400
TZNAME:EDT
DTSTART:20190310T070000
END:DAYLIGHT
BEGIN:STANDARD
TZOFFSETFROM:-0400
TZOFFSETTO:-0500
TZNAME:EST
DTSTART:20191103T060000
END:STANDARD
BEGIN:DAYLIGHT
TZOFFSETFROM:-0500
TZOFFSETTO:-0400
TZNAME:EDT
DTSTART:20200308T070000
END:DAYLIGHT
BEGIN:STANDARD
TZOFFSETFROM:-0400
TZOFFSETTO:-0500
TZNAME:EST
DTSTART:20201101T060000
END:STANDARD
BEGIN:DAYLIGHT
TZOFFSETFROM:-0500
TZOFFSETTO:-0400
TZNAME:EDT
DTSTART:20210314T070000
END:DAYLIGHT
BEGIN:STANDARD
TZOFFSETFROM:-0400
TZOFFSETTO:-0500
TZNAME:EST
DTSTART:20211107T060000
END:STANDARD
END:VTIMEZONE
BEGIN:VEVENT
DTSTART;TZID=America/Kentucky/Louisville:20200325T183000
DTEND;TZID=America/Kentucky/Louisville:20200325T200000
DTSTAMP:20260423T142839
CREATED:20200217T160920Z
LAST-MODIFIED:20200313T140556Z
UID:10000133-1585161000-1585166400@ket.org
SUMMARY:CANCELED Free screening of "World on Fire\," a new Masterpiece drama
DESCRIPTION:Thank you for your interest in attending KET’s preview screening of World on Fire on March 25. In an effort to protect the health and safety of the communities and citizens we serve\, the event has been canceled. Please tune in to KET on Sunday\, April 5 at 9/8 pm for the premiere of the program. \nJoin KET for a special\, free screening of the first episode of the new Masterpiece drama\, “World on Fire.” This gripping series follows the fates of ordinary people in five countries during the first year of World War II and features performances from Helen Hunt\, Sean Bean and more. \nWatch the trailer. \nThe screening will be followed by a special discussion of WWII history in Northern Kentucky with: \n\n\n\nElaine Kuhn\, local history/genealogy expert at Kenton County Public Library;\nDave Schroeder\, director of the Kenton County Public Library;\nDr. Paul Tenkotte\, professor of history & geography at Northern Kentucky University\, and director of The Center for Public History\n\n\n\nWhen:\nWednesday\, March 25\nThe screening begins at 6:30 \nWhere:\nKenton County Public Library\, Durr Branch\n1992 Walton-Nicholson Road Independence\, KY 41051
URL:https://ket.org/event/free-screening-of-world-on-fire-a-new-masterpiece-drama/
LOCATION:Kenton County Public Library\, 1992 Walton-Nicholson Road\, Independence\, KY\, 41051\, United States
CATEGORIES:Arts,History,Kentucky,Living,Performances
ATTACH;FMTTYPE=image/jpeg:https://portal.ketcloud.ket.org/20200218161942/image-for-events-page-characters-lined-up.jpg
ORGANIZER;CN="KET":MAILTO:events@ket.org
GEO:38.9066055;-84.5478003
X-APPLE-STRUCTURED-LOCATION;VALUE=URI;X-ADDRESS=Kenton County Public Library 1992 Walton-Nicholson Road Independence KY 41051 United States;X-APPLE-RADIUS=500;X-TITLE=1992 Walton-Nicholson Road:geo:-84.5478003,38.9066055
END:VEVENT
END:VCALENDAR