BEGIN:VCALENDAR
VERSION:2.0
PRODID:-//KET - ECPv6.15.20//NONSGML v1.0//EN
CALSCALE:GREGORIAN
METHOD:PUBLISH
X-ORIGINAL-URL:https://ket.org
X-WR-CALDESC:Events for KET
REFRESH-INTERVAL;VALUE=DURATION:PT1H
X-Robots-Tag:noindex
X-PUBLISHED-TTL:PT1H
BEGIN:VTIMEZONE
TZID:America/Kentucky/Louisville
BEGIN:DAYLIGHT
TZOFFSETFROM:-0500
TZOFFSETTO:-0400
TZNAME:EDT
DTSTART:20220313T070000
END:DAYLIGHT
BEGIN:STANDARD
TZOFFSETFROM:-0400
TZOFFSETTO:-0500
TZNAME:EST
DTSTART:20221106T060000
END:STANDARD
BEGIN:DAYLIGHT
TZOFFSETFROM:-0500
TZOFFSETTO:-0400
TZNAME:EDT
DTSTART:20230312T070000
END:DAYLIGHT
BEGIN:STANDARD
TZOFFSETFROM:-0400
TZOFFSETTO:-0500
TZNAME:EST
DTSTART:20231105T060000
END:STANDARD
BEGIN:DAYLIGHT
TZOFFSETFROM:-0500
TZOFFSETTO:-0400
TZNAME:EDT
DTSTART:20240310T070000
END:DAYLIGHT
BEGIN:STANDARD
TZOFFSETFROM:-0400
TZOFFSETTO:-0500
TZNAME:EST
DTSTART:20241103T060000
END:STANDARD
BEGIN:DAYLIGHT
TZOFFSETFROM:-0500
TZOFFSETTO:-0400
TZNAME:EDT
DTSTART:20250309T070000
END:DAYLIGHT
BEGIN:STANDARD
TZOFFSETFROM:-0400
TZOFFSETTO:-0500
TZNAME:EST
DTSTART:20251102T060000
END:STANDARD
BEGIN:DAYLIGHT
TZOFFSETFROM:-0500
TZOFFSETTO:-0400
TZNAME:EDT
DTSTART:20260308T070000
END:DAYLIGHT
BEGIN:STANDARD
TZOFFSETFROM:-0400
TZOFFSETTO:-0500
TZNAME:EST
DTSTART:20261101T060000
END:STANDARD
BEGIN:DAYLIGHT
TZOFFSETFROM:-0500
TZOFFSETTO:-0400
TZNAME:EDT
DTSTART:20270314T070000
END:DAYLIGHT
BEGIN:STANDARD
TZOFFSETFROM:-0400
TZOFFSETTO:-0500
TZNAME:EST
DTSTART:20271107T060000
END:STANDARD
END:VTIMEZONE
BEGIN:VEVENT
DTSTART;TZID=America/Kentucky/Louisville:20230610T190000
DTEND;TZID=America/Kentucky/Louisville:20230610T235900
DTSTAMP:20260424T041504
CREATED:20230103T182522Z
LAST-MODIFIED:20250429T220535Z
UID:10000237-1686423600-1686441540@ket.org
SUMMARY:Summer Celebration 2023: Be True to Your School
DESCRIPTION:Thank you to our sponsors\, guests\, and auction winners for making KET’s 35th annual Summer Celebration on June 10 a record-breaking success.  A pep rally for pomp\, possibility and school pride\, there was something for everyone at Be True to Your School:  our very own Homecoming royalty and float\, superfans\, caps and gowns\, yearbook photos\, a Straight A’s auction\, and School of Rock dance party. Thank you for waving the flag for KET\, the state’s largest classroom.Honorary Chairs UK President Eli and Dr. Mary Lynne Capilouto and Donamire Farm hostess Mira Ball join us in celebrating the 960 coeds in attendance—all sporting their true colors.  Much more than a fun event\, Summer Celebration in one day generates the most in community support to advance KET’s mission. \n\n\n\nThere’s still time to join the party! Support KET by participating in our last chance auction and secure live performances\, jewelry\, wellness packages and more. The auction will remain open until Friday\, June 16. Don’t miss your chance at one of these best-of-class items!  \n\n\n\nBid Now\n\n\n\n\n\n\n\n\n\n\n\n\n\n \n\n\n\n\n\n\n\n\n\n\n\n\n\n\n\n\nView Photo Gallery\n\n\n\n\n\n\n\n\nHomecoming King and Queen\n\n\n\n\nPresident Eli and Dr. Mary Lynne Capilouto\n\n\n\n\n\n\n\n\n\n\n\n\nEvent Sponsors\n\n\n\nSumma Cum Laude Sponsor: \n\n\n\n\n\n\n\nSpecial Honors Sponsors: \n\n\n\n\n\n\n\nExclusive Auction: \n\n\n\n\n\n\n\n\n\nHospitality: \n\n\n\n\n\n\n\n\n\n\n\n\n\nSpecialty Bar: \n\n\n\n\n\n\n\n\n\nTheme: \n\n\n\n\n\n\n\n\n\n\n\nMagna Cum Laude:    \n\n\n\nHonor Roll: \n\n\n\n \n\n\n\n \n\n\n\nDean’s List:  \n\n\n\nAlzheimer’s Association | American Trust | Anthem BCBS | Assured Partners | Becky Jordan State Farm Insurance | Berea College | Blue & Co.\, LLC | Bluegrass Community and Technical College | Cecil’s Heating & Air Conditioning | Chase Tours | CHI St. Joseph Health | City National Bank | Clean Gas Partners | Community Trust Bank | Duo Broadband | Field & Main Bank | Fifth Third Bank | Georgetown College | Gess Mattingly & Atchison\, PLC | Jason Rainey | Keeneland | Kelly Green | KEMI | Kentucky Chamber of Commerce | The Lane Report | McCarthy Strategic Solutions\, LLC | MCM CPA’s & Advisors | Owensboro Health | PNC Bank | Republic Bank | Jeremy and Julie Smith | Transylvania University | Sandra Welch | Southeast Printing | Stephanie Stumbo & Andrew Dorton | Stock Yards Bank | WesBanco Bank | WKYT-TV | WLEX-18 | Wyatt\, Tarrant & Combs\, LLP \n\n\n\n \n\n\n\nIn-Kind Donors: \n\n\n\nBarney Miller’s | Beam Suntory | BORN | Claiborne Farm | Commonwealth Safety Consultants | DaRae & Friends Catering | Donamire Farm | Fayette County Public Schools | Friends of the Lexington Public Library | Harp Enterprises | Lafayette High School | Myers Printing | Pemberton’s Greenhouse | R.E. Cook Electrical | TOPS Marketing | University of Kentucky Bands | Wildcat Moving
URL:https://ket.org/event/summer-celebration-2023-be-true-to-your-school/
LOCATION:Donamire Farm\, 4151 Old Frankfort Pike\, Lexington\, kentucky\, 40510
CATEGORIES:Fund,Fundraisers,Kentucky
ATTACH;FMTTYPE=image/png:https://portal.ketcloud.ket.org/20230615090701/sc23.png
GEO:38.0971275;-84.6015047
X-APPLE-STRUCTURED-LOCATION;VALUE=URI;X-ADDRESS=Donamire Farm 4151 Old Frankfort Pike Lexington kentucky 40510;X-APPLE-RADIUS=500;X-TITLE=4151 Old Frankfort Pike:geo:-84.6015047,38.0971275
END:VEVENT
BEGIN:VEVENT
DTSTART;TZID=America/Kentucky/Louisville:20240209T190000
DTEND;TZID=America/Kentucky/Louisville:20240209T230000
DTSTAMP:20260424T041504
CREATED:20231025T201930Z
LAST-MODIFIED:20240219T135028Z
UID:10000258-1707505200-1707519600@ket.org
SUMMARY:February Fanfare 2024
DESCRIPTION:Honorary Stars: Pam and Paul Thompson\n\n\n\n\n\nLights. Camera. Action!\n\n\n\nKET’s silver anniversary salute to the silver screen was a blockbuster event! February Fanfare\, lit up the night as we took you back to the glamour of the golden age of Hollywood. Celebrating KET’s impact in Louisville and the philanthropic work of Honorary Chairs Paul and Pamela Thompson\, over 300 attendees enjoyed dinner\, a record-breaking silent auction\, and danced the night away to the tunes of The Crashers. All proceeds benefit KET’s programs and services. Thank you! \n\n\n\n\n\n\n\nPhotos\n\n\n\n\nFebruary Fanfare 2024 | KET | Feb. 9\, 2024 | The Olmsted Louisville\, KY\n\n\n\nFebruary Fanfare 2024 | KET | Feb. 9\, 2024 | The Olmsted Louisville\, KY\n\n\n\nFebruary Fanfare 2024 | KET | Feb. 9\, 2024 | The Olmsted Louisville\, KY\n\n\n\nFebruary Fanfare 2024 | KET | Feb. 9\, 2024 | The Olmsted Louisville\, KY\n\n\n\nFebruary Fanfare 2024 | KET | Feb. 9\, 2024 | The Olmsted Louisville\, KY\n\n\n\nFebruary Fanfare 2024 | KET | Feb. 9\, 2024 | The Olmsted Louisville\, KY\n\n\n\nFebruary Fanfare 2024 | KET | Feb. 9\, 2024 | The Olmsted Louisville\, KY\n\n\n\nFebruary Fanfare 2024 | KET | Feb. 9\, 2024 | The Olmsted Louisville\, KY\n\n\n\nFebruary Fanfare 2024 | KET | Feb. 9\, 2024 | The Olmsted Louisville\, KY\n\n\n\nFebruary Fanfare 2024 | KET | Feb. 9\, 2024 | The Olmsted Louisville\, KY\n\n\n\nFebruary Fanfare 2024 | KET | Feb. 9\, 2024 | The Olmsted Louisville\, KY\n\n\n\nFebruary Fanfare 2024 | KET | Feb. 9\, 2024 | The Olmsted Louisville\, KY\n\n\n\nFebruary Fanfare 2024 | KET | Feb. 9\, 2024 | The Olmsted Louisville\, KY\n\n\n\nFebruary Fanfare 2024 | KET | Feb. 9\, 2024 | The Olmsted Louisville\, KY\n\n\n\nFebruary Fanfare 2024 | KET | Feb. 9\, 2024 | The Olmsted Louisville\, KY\n\n\n\nFebruary Fanfare 2024 | KET | Feb. 9\, 2024 | The Olmsted Louisville\, KY\n\n\n\n\n\n\n\n\n\n\nAnd the award goes to…\n\n\n\nGold Sponsors:\n\n\n\n\n\n\n\n\n\n\n\n\n\n\n\n\n\n\n\nAfter-party Sponsor:\n\n\n\n\n\n\n\nSilver Sponsors:\n\n\n\n\n\n\n\n\n\n\n\n\n\n\n\n\n\n\n\n\n\n\n\n\n\n\n\n\n\n\n\n\n\n\n\n\n\n\n\n\n\n\n\nValet Sponsor:\n\n\n\n\n\n\n\nBar Sponsor:\n\n\n\n\n\n\n\nBronze Sponsors:\n\n\n\n\nCentral Bank & Trust\n\n\n\nTom & Elaine Crawford\n\n\n\nJPMorgan Chase\n\n\n\nAlice & Wade Houston\n\n\n\nMuhammad Ali Center\n\n\n\nRepublic Bank\n\n\n\nStewart Home & School\n\n\n\nPaul and Pamela Thompson\n\n\n\nTilford\, Dobbins & Schmidt\, PLLC
URL:https://ket.org/event/february-fanfare-2024/
LOCATION:The Olmsted\, 3701 Frankfort Avenue\, Louisville\, Kentucky\, 40207
CATEGORIES:Arts,Fundraisers,Support
ATTACH;FMTTYPE=image/jpeg:https://portal.ketcloud.ket.org/20231114114202/2024-Fanfare_web-banner-new.jpg
END:VEVENT
BEGIN:VEVENT
DTSTART;TZID=America/Kentucky/Louisville:20240314T193000
DTEND;TZID=America/Kentucky/Louisville:20240314T223000
DTSTAMP:20260424T041505
CREATED:20240228T141838Z
LAST-MODIFIED:20240228T163223Z
UID:10000270-1710444600-1710455400@ket.org
SUMMARY:Exile in Concert
DESCRIPTION:Enjoy a full concert by Exile\, the legendary Kentucky group\, performing all their hits\, plus songs from their brand-new album. Exile band members are JP Pennington\, Marlon Hargis\, Les Taylor\, Sonny LeMaire and Steve Goetzman. \n\n\n\nTickets for this show at the historic Kentucky Theatre were set aside specifically for KET members. Tickets are $200 and include a Soundcheckpass (watch and listen in as the band performs their pre-show soundcheck) along with a Meet & Greet opportunity. We have a limited number of tickets so act fast! \n\n\n\n\nGet Tickets
URL:https://ket.org/event/exile/
LOCATION:Kentucky Theatre\, 214 E Main St.\, Lexington\, Kentucky\, 40507\, United States
CATEGORIES:Fundraisers,Kentucky
ATTACH;FMTTYPE=image/jpeg:https://portal.ketcloud.ket.org/20240228092410/Exile-concert-at-TKT-mezz.jpg
END:VEVENT
BEGIN:VEVENT
DTSTART;TZID=America/Kentucky/Louisville:20240608T190000
DTEND;TZID=America/Kentucky/Louisville:20240608T235900
DTSTAMP:20260424T041505
CREATED:20240129T220229Z
LAST-MODIFIED:20240612T134111Z
UID:10000268-1717873200-1717891140@ket.org
SUMMARY:Summer Celebration 2024: Bravo! Broadway
DESCRIPTION:Dr. Everett and Alicia McCorveySummer Celebration 2024 | Donamire Farm\n\n\n\n\n\nBravo! Broadway\n\n\n\nThank you for stepping into the bright lights of KET’s 36th annual Summer Celebration “Bravo! Broadway” – a show-stopping evening on June 8 in support of the state’s largest performance stage.  \n\n\n\nIn the lead roles\, Honorary Chairs Everett and Alicia McCorvey and Producer Mira Ball together with some 900 stars on the set helped raise a record box office all to benefit KET’s programs and services.  \n\n\n\nThe curtain opened to It’s a Grand Night for Singing then guests enjoyed Big Apple hospitality\, auction swag and dancing – all against the backdrop of beautiful Donamire Farm.  And whether you masqueraded as Phantom\, roared like the Lion King or took a shot with Hamilton\, please take a bow for making possible more education and inspiration for those we serve. \n\n\n\n\nView Gallery\n\n\n\n\n\n\n\n\n\n\nSpecial Thanks to Our Sponsors!\n\n\n\nFeatured Actor\n\n\n\n\n\n\n\nPlaywrights\n\n\n\n\n\n\n\n\n\n\n\n\n\n\n\n\n\n\n\n\n\n\n\n\n\n\n\n\n\n\n\n\n\n\n\n\n\n\n\n\n\n\n\n\n\n\n\nSpecialty Awards/Best Direction\n\n\n\n\n\n\n\n\n\n\n\n\n\n\n\n\n\n\n\n\n\n\n\n\n\n\n\nComposers\n\n\n\n\n\n\n\n\n\n\n\n\n\n\n\n\n\n\n\n\n\n\n\n\n\n\n\n\n\n\n\n\n\n\n\n\n\n\n\n\n\n\n\n\n\n\n\n\n\n\n\n\n\n\n\n\n\n\n\n\n\n\n\n\n\n\n\n\n\n\n\n\n\n\n\n\n\n\n\nPatrons\n\n\n\n\n\n\nAlzheimer’s Association-Greater KY & Southern IN Chapter\n\n\n\nAnthem Blue Cross/Blue Shield\n\n\n\nAssured Partners\n\n\n\nBecky Jordan State Farm Insurance\n\n\n\nBluegrass Community & Technical College\n\n\n\nCecil’s Heating & Air Conditioning\, Inc.\n\n\n\nCHI Saint Joseph Health\n\n\n\nClean Gas\, Inc.\n\n\n\nCommunity Action Council\n\n\n\nPatti & Al Cross and Jennifer & David Cross\n\n\n\nJanet Doss\n\n\n\nDuo Broadband\n\n\n\nFifth Third Bank\n\n\n\nVirginia Fox\n\n\n\nGess Mattingly & Atchison\n\n\n\nBeverly and Dan Griffith\n\n\n\nKeeneland\n\n\n\nKEMI\n\n\n\nKentucky Chamber of Commerce\n\n\n\nKentucky Community and Technical College System\n\n\n\nThe Lane Report\n\n\n\n\n\n\n\nLexington Event Company\n\n\n\nMarsh McLennan Agency\n\n\n\nMcCarthy Strategic Solutions LLC\n\n\n\nCyndy and Herb Miller\n\n\n\nMyers Fencing\n\n\n\nNetGain Technologies\n\n\n\nOwensboro Health\n\n\n\nMr. M. Lynn Parrish\n\n\n\nSarah and Kim Patton\n\n\n\nPNC Bank\n\n\n\nRepublic Bank & Trust Co.\n\n\n\nSoutheast Printing & Mailing\n\n\n\nStock Yards Bank & Trust\n\n\n\nStephanie Stumbo and Andrew Dorton\n\n\n\nTruist\n\n\n\nUK Healthcare\n\n\n\nUnited Real Estate Louisville and Bluegrass\n\n\n\nWesBanco Bank\, Inc.\n\n\n\nWillett Distillery\n\n\n\nWLEX-TV\n\n\n\nWyatt\, Tarrant & Combs
URL:https://ket.org/event/summer-celebration-2024-bravo-broadway/
LOCATION:KY
CATEGORIES:Arts,Fundraisers,Support
ATTACH;FMTTYPE=image/jpeg:https://portal.ketcloud.ket.org/20240121210439/SummerCeb_WebHeader_2.jpg
END:VEVENT
BEGIN:VEVENT
DTSTART;TZID=America/Kentucky/Louisville:20260214T183000
DTEND;TZID=America/Kentucky/Louisville:20260214T230000
DTSTAMP:20260424T041506
CREATED:20241018T144221Z
LAST-MODIFIED:20260220T015729Z
UID:10000279-1771093800-1771110000@ket.org
SUMMARY:February Fanfare 2026
DESCRIPTION:King and Queen of HeartsPrewitt Lane and Diane Medley\n\n\n\n\n\nHonorary Chairs Diane Medley and Prewitt Lane join us in thanking you for helping make KET’s February Fanfare a fun evening filled with heart in support of our mission to educate\, connect and inspire.  \n\n\n\nThere is so much to love about KET that a sold-out crowd of some 275 guests celebrated with us on Valentine’s Day at The Olmsted—draped in roses\, candles and good cheer.  \n\n\n\nThe response to the silent and live auctions and mission appeal was so heartwarming\, then Tony and the Tan Lines turned up the heat on the dance floor.  \n\n\n\nThank you for believing in KET and for sharing your love. \n\n\n\n\n\n\n\n\n\nPhoto album\n\n\n\n\n\n\n\n\n\n\n\n\n\n\n\n\n\n\n\n\n\n\n\n\n\n\n\n\n\n\n\n\n\n\n\n\n\n\n\n\n\n\n\n\n\n\n\n\n\n\n\n\n\n\n\n\n\n\n\n\n\n\n\n\n\n\n\n\n\n\n\n\n\n\n\n\n\n\n\n\n\n\n\n\n\n\n\n\n\n\n\n\n\n\n\n\n\n\n\n\n\n\n\n\n\n\n\n\n\n\n\n\n\n\n\n\n\n\n\n\n\n\n\n\n\n\n\n\n\n\n\n\n\n\n\n\n\n\n\n\n\n\n\n\n\n\n\n\n\n\n\n\n\n\n\n\n\n\n\n\n\n\n\n\n\n\n\n\n\n\n\n\n\n\n\n\n\n\n\n\n\n\n\n\n\n\n\n\n\n\n\n\n\n\n\n\n\n\n\n\n\n\n\n\n\n\n\n\n\n\n\n\n\n\n\n\n\n\n\n\n\n\n\n\n\n\n\n\n\n\n\n\n\n\n\n\n\nEvent Sponsors\n\n\n\nPlatinum Sponsors:  \n\n\n\nCary Brown & Steven Epstein \n\n\n\nGold Sponsors: \n\n\n\n\n\n\n\n\n\n\n\n\n\n\n\n\n\n\n\nSpecialty Bar Sponsor: \n\n\n\n\n\n\n\nSilver Sponsors: \n\n\n\n\n\n\n\n\n\n\n\n\n\n\n\n\n\n\n\n\n\n\n\n\n\n\n\n\n\n\n\n\n\n\n\n\n\n\n\n\n\n\n\n\n\n\n\nMartini Bar Sponsor: \n\n\n\n\n\n\n\nBronze Sponsors: \n\n\n\n\n415 Group\n\n\n\nBim Group\n\n\n\nBaptist Health\n\n\n\nCentral Bank & Trust\n\n\n\nCherry Bekaert\n\n\n\nBill and Barbara Juckett\n\n\n\nKeller-Williams Realty\n\n\n\nMcBrayer PLLC\n\n\n\nSeven Counties Services\n\n\n\nTilford Dobbins & Schmidt PLLC
URL:https://ket.org/event/february-fanfare/
LOCATION:The Olmsted\, 3701 Frankfort Ave.\, Louisville\, Kentucky\, 40207
CATEGORIES:Fund,Fundraisers,Support
ATTACH;FMTTYPE=image/jpeg:https://portal.ketcloud.ket.org/20251030103757/4917-Feb-Fanfare_web-banner_1920x1080-1.jpg
END:VEVENT
END:VCALENDAR