BEGIN:VCALENDAR
VERSION:2.0
PRODID:-//KET - ECPv6.15.20//NONSGML v1.0//EN
CALSCALE:GREGORIAN
METHOD:PUBLISH
X-WR-CALNAME:KET
X-ORIGINAL-URL:https://ket.org
X-WR-CALDESC:Events for KET
REFRESH-INTERVAL;VALUE=DURATION:PT1H
X-Robots-Tag:noindex
X-PUBLISHED-TTL:PT1H
BEGIN:VTIMEZONE
TZID:America/Kentucky/Louisville
BEGIN:DAYLIGHT
TZOFFSETFROM:-0500
TZOFFSETTO:-0400
TZNAME:EDT
DTSTART:20220313T070000
END:DAYLIGHT
BEGIN:STANDARD
TZOFFSETFROM:-0400
TZOFFSETTO:-0500
TZNAME:EST
DTSTART:20221106T060000
END:STANDARD
BEGIN:DAYLIGHT
TZOFFSETFROM:-0500
TZOFFSETTO:-0400
TZNAME:EDT
DTSTART:20230312T070000
END:DAYLIGHT
BEGIN:STANDARD
TZOFFSETFROM:-0400
TZOFFSETTO:-0500
TZNAME:EST
DTSTART:20231105T060000
END:STANDARD
BEGIN:DAYLIGHT
TZOFFSETFROM:-0500
TZOFFSETTO:-0400
TZNAME:EDT
DTSTART:20240310T070000
END:DAYLIGHT
BEGIN:STANDARD
TZOFFSETFROM:-0400
TZOFFSETTO:-0500
TZNAME:EST
DTSTART:20241103T060000
END:STANDARD
END:VTIMEZONE
BEGIN:VEVENT
DTSTART;TZID=America/Kentucky/Louisville:20230218T190000
DTEND;TZID=America/Kentucky/Louisville:20230218T230000
DTSTAMP:20260421T073145
CREATED:20221007T131703Z
LAST-MODIFIED:20230309T193908Z
UID:10000233-1676746800-1676761200@ket.org
SUMMARY:Moonlight Masquerade
DESCRIPTION:Thank you!\n\n\n\nThank you for joining us to revel in KET’s Moonlight Masquerade! True to this year’s Mardi Gras theme\, beaux-dacious masks\, beads and feathers filled The Olmsted to capacity and The Crashers kept the dance floor hopping! \n\n\n\nOn behalf of Honorary Krewe Captains Alice and Wade Houston\, and KET’s Greater Louisville Fund Board\, we thank you for making Moonlight Masquerade the most successful Louisville fundraiser yet! You and a sold-out crowd contributed an all-time high $110\,000 to strengthen KET’s programs and services in area homes\, schools and neighborhoods. \n\n\n\nPlan to join us next February for not only a fun party but to help KET open a world of opportunity\, education and inspiration for those we serve. When you support KET\, you can watch—literally every day—the impact of your generosity. Thanks for believing in KET. \n\n\n\n\n\n\n\nA Fabulous February Fanfare\n\n\n\nOur 24th annual February Fanfare gala was presented by the Louisville Regional Board of the Commonwealth Fund for KET! \n\n\n\nThis year’s theme\, Moonlight Masquerade\, celebrated Bourbon Street to our bourbon capital\, and the fleur de lis reigned King of Mardi Gras at this Big Easy bash. Guests reveled in bedazzled masks\, fell in line with a brassy band and celebrated the melting pot of cultures and traditions of the season. Proceeds will support KET’s programs and services. \n\n\n\nHonorary Krewe Captains: Alice and Wade Houston\n\n\n\n\n\n\n\nPhoto albums\n\n\n\n\nFacebook Album\n\n\n\nTops in Lex Photo Album\n\n\n\nInstagram Album\n\n\n\n\n\n\n\n\nSponsors\n\n\n\n\nFleur de Lis Lovers – $5\,000: \n\n\n\nAfter-Mardi Party – $5\,000: \n\n\n\nSpecialty Bar Sponsor – $5\,000: \n\n\n\nCrescent City – $2\,500:  \n\n\n\nCreole Crew – $1\,800: Baptist Health Louisville | Blue & Co. | Junior and Doris Bridgeman | Central Bank | Dean Dorton Allen Ford\, PLLC | Fifth Third | Green Castle Baptist Church | Rishabh and Lopa Mehrotra | JPMorgan Chase Bank | Kentucky Chamber of Commerce | Kentucky Select Properties | Monty’s Plant & Soil Products | Norton Healthcare |  Republic Bank | Tilford\, Dobbins & Schmidt\, PLLC
URL:https://ket.org/event/moonlight-masquerade/
LOCATION:The Olmsted\, 3701 Frankfort Ave.\, Louisville\, KY\, 40207\, United States
CATEGORIES:Fundraisers,Kentucky
ATTACH;FMTTYPE=image/jpeg:https://portal.ketcloud.ket.org/20221219113203/Moonlight_web-banner-with-date-higher-resolution-1.jpg
GEO:38.2561486;-85.6647594
X-APPLE-STRUCTURED-LOCATION;VALUE=URI;X-ADDRESS=The Olmsted 3701 Frankfort Ave. Louisville KY 40207 United States;X-APPLE-RADIUS=500;X-TITLE=3701 Frankfort Ave.:geo:-85.6647594,38.2561486
END:VEVENT
END:VCALENDAR