BEGIN:VCALENDAR
VERSION:2.0
PRODID:-//KET - ECPv6.15.20//NONSGML v1.0//EN
CALSCALE:GREGORIAN
METHOD:PUBLISH
X-ORIGINAL-URL:https://ket.org
X-WR-CALDESC:Events for KET
REFRESH-INTERVAL;VALUE=DURATION:PT1H
X-Robots-Tag:noindex
X-PUBLISHED-TTL:PT1H
BEGIN:VTIMEZONE
TZID:America/Kentucky/Louisville
BEGIN:DAYLIGHT
TZOFFSETFROM:-0500
TZOFFSETTO:-0400
TZNAME:EDT
DTSTART:20180311T070000
END:DAYLIGHT
BEGIN:STANDARD
TZOFFSETFROM:-0400
TZOFFSETTO:-0500
TZNAME:EST
DTSTART:20181104T060000
END:STANDARD
BEGIN:DAYLIGHT
TZOFFSETFROM:-0500
TZOFFSETTO:-0400
TZNAME:EDT
DTSTART:20190310T070000
END:DAYLIGHT
BEGIN:STANDARD
TZOFFSETFROM:-0400
TZOFFSETTO:-0500
TZNAME:EST
DTSTART:20191103T060000
END:STANDARD
BEGIN:DAYLIGHT
TZOFFSETFROM:-0500
TZOFFSETTO:-0400
TZNAME:EDT
DTSTART:20200308T070000
END:DAYLIGHT
BEGIN:STANDARD
TZOFFSETFROM:-0400
TZOFFSETTO:-0500
TZNAME:EST
DTSTART:20201101T060000
END:STANDARD
END:VTIMEZONE
BEGIN:VEVENT
DTSTART;TZID=America/Kentucky/Louisville:20190607T190000
DTEND;TZID=America/Kentucky/Louisville:20190607T233000
DTSTAMP:20260425T093639
CREATED:20190716T163215Z
LAST-MODIFIED:20191016T151806Z
UID:10000195-1559934000-1559950200@ket.org
SUMMARY:2019 Summer Celebration Was Out of This World!
DESCRIPTION:KET’s 31st annual Summer Celebration on June 7 at Donamire Farm marked 50 years since that first giant leap for mankind and the dedication of KET as a “space-age communication device.” \nOver the moon costumes\, Lunar rovers\, NASA satellites\, telescopes and a mobile planetarium created the atmosphere\, while 300 discoveries in the Big Bang Bids auction and Space Jams by the Jimmy Church Band highlighted the fun. Many thanks to this year’s sponsors\, volunteers and some 1\,039 explorers in attendance who helped launch KET’s next half-century of service. \nThe success of Summer Celebration is a tribute to those who believe in the power of KET to explore new frontiers\, fuel imagination\, and lift up a world of intelligence. Thanks for enabling those we serve to reach for the stars. \nSAVE THE DATE: 32nd annual Summer Celebration – June 5\, 2020\, Donamire Farm\, Lexington\, Ky.\nSee more photo highlights from TopsinLex. \n\n		\n		\n			\n				\n			\n			\n				\n			\n			\n				\n			\n			\n				\n			\n			\n				\n			\n			\n				\n			\n			\n				\n			\n			\n				\n			\n			\n				\n			\n			\n				\n			\n			\n				\n			\n			\n				\n			\n		\n\nThanks again to our Host Sponsors:\nAlliance Coal\, LLC\nAlltech\nBrotherton Brown Group at Morgan Stanley Wealth Management\nBrown-Forman\nColumbia Gas of Kentucky\, Inc.\nFriends of Coal\nHardscuffle\, Inc.\nHilliard Lyons\, A Baird Company\nKentucky Chamber o f Commerce\nLG&E and K U Energy\, LLC
URL:https://ket.org/event/2019-summer-celebration-31st-annual/
LOCATION:Donamire Farm\, 4151 Old Frankfort Pike\, Lexington\, kentucky\, 40510
CATEGORIES:Fund,Fundraisers
ATTACH;FMTTYPE=image/jpeg:https://portal.ketcloud.ket.org/20190716122918/SumCel2019-624x261.jpg
GEO:38.0971275;-84.6015047
X-APPLE-STRUCTURED-LOCATION;VALUE=URI;X-ADDRESS=Donamire Farm 4151 Old Frankfort Pike Lexington kentucky 40510;X-APPLE-RADIUS=500;X-TITLE=4151 Old Frankfort Pike:geo:-84.6015047,38.0971275
END:VEVENT
BEGIN:VEVENT
DTSTART;TZID=America/Kentucky/Louisville:20190612T193000
DTEND;TZID=America/Kentucky/Louisville:20190612T193000
DTSTAMP:20260425T093639
CREATED:20190716T155023Z
LAST-MODIFIED:20250423T234420Z
UID:10000193-1560367800-1560367800@ket.org
SUMMARY:Josh Groban - The Bridges Tour with special guest Jennifer Nettles
DESCRIPTION:US Bank Arena\, Cincinnati\nKET has floor seats that were reserved for our donors before they went on sale to the public. For a one-time donation to KET of $300 per person\, you can support the quality KET programs you rely on and get a great seat to this can’t-miss concert event.\n\nPossessing one of the most outstanding and instantly recognizable voices in music\, GRAMMY® Award-nominated singer\, songwriter\, and actor Josh Groban has entertained fans across the globe with his multi-platinum albums and DVDs (over 30 million sold worldwide)\, electrifying live performances\, and comedic film and television appearances. His discography encompasses eight studio albums\, most recently 2018’s “Bridges”.\n\nSuperstar entertainer Jennifer Nettles is an admired and animated performer. ASCAP has honored her with five awards\, including one for her No. 1 PLATINUM hit “Stay” that also earned GRAMMY®\, ACM\, and CMA Awards.\n\nGet Tickets Now
URL:https://ket.org/event/josh-groban-the-bridges-tour-with-special-guest-jennifer-nettles/
LOCATION:US Bank Arena\, Cincinnati\, Ohio\, 100 Broadway St\,\, Cincinnati\, kentucky
CATEGORIES:Arts,Fund,Fundraisers,Music,Performances
ATTACH;FMTTYPE=image/jpeg:https://portal.ketcloud.ket.org/20190716114929/Bridges-Tour-with-Jennifer-Nettles.jpg
GEO:39.0979906;-84.5044787
X-APPLE-STRUCTURED-LOCATION;VALUE=URI;X-ADDRESS=US Bank Arena Cincinnati Ohio 100 Broadway St Cincinnati kentucky;X-APPLE-RADIUS=500;X-TITLE=100 Broadway St\,:geo:-84.5044787,39.0979906
END:VEVENT
END:VCALENDAR