BEGIN:VCALENDAR
VERSION:2.0
PRODID:-//KET - ECPv6.15.20//NONSGML v1.0//EN
CALSCALE:GREGORIAN
METHOD:PUBLISH
X-ORIGINAL-URL:https://ket.org
X-WR-CALDESC:Events for KET
REFRESH-INTERVAL;VALUE=DURATION:PT1H
X-Robots-Tag:noindex
X-PUBLISHED-TTL:PT1H
BEGIN:VTIMEZONE
TZID:America/Kentucky/Louisville
BEGIN:DAYLIGHT
TZOFFSETFROM:-0500
TZOFFSETTO:-0400
TZNAME:EDT
DTSTART:20180311T070000
END:DAYLIGHT
BEGIN:STANDARD
TZOFFSETFROM:-0400
TZOFFSETTO:-0500
TZNAME:EST
DTSTART:20181104T060000
END:STANDARD
BEGIN:DAYLIGHT
TZOFFSETFROM:-0500
TZOFFSETTO:-0400
TZNAME:EDT
DTSTART:20190310T070000
END:DAYLIGHT
BEGIN:STANDARD
TZOFFSETFROM:-0400
TZOFFSETTO:-0500
TZNAME:EST
DTSTART:20191103T060000
END:STANDARD
BEGIN:DAYLIGHT
TZOFFSETFROM:-0500
TZOFFSETTO:-0400
TZNAME:EDT
DTSTART:20200308T070000
END:DAYLIGHT
BEGIN:STANDARD
TZOFFSETFROM:-0400
TZOFFSETTO:-0500
TZNAME:EST
DTSTART:20201101T060000
END:STANDARD
END:VTIMEZONE
BEGIN:VEVENT
DTSTART;TZID=America/Kentucky/Louisville:20190418T180000
DTEND;TZID=America/Kentucky/Louisville:20190418T210000
DTSTAMP:20260425T123633
CREATED:20190716T170728Z
LAST-MODIFIED:20250416T172252Z
UID:10000121-1555610400-1555621200@ket.org
SUMMARY:Antiques Roadshow Louisville Preview Event
DESCRIPTION:Antiques Roadshow Premiere EventJoin us for a cocktail celebration and a sneak peek of the Louisville Antiques Roadshow episodesThursday\, April 18\, 2019\, 6-9 pm at the Kentucky Derby Museum adjacent to Churchill Downs. \nPresented by the Greater Louisville Regional Board of the Commonwealth Fund for KET \nIn May\, 2018\, the Antiques Roadshow cast and crew rolled into Louisville to film at historical Churchill Downs as part of a limited nationwide tour. Be among the FIRST to view a specially curated selection of highlights from the three Louisville episodes\, featuring items that shine the spotlight on Kentucky’s unique heritage. We look forward to sharing this special evening with you. \nProceeds benefit KET programs and services. \nChoose a single ticket or be a Patron Sponsor (includes 8 event tickets)Get Tickets \nKET would like to thank our event sponsors:
URL:https://ket.org/event/antiques-roadshow-louisville-preview-event/
LOCATION:Kentucky Derby Museum\, 704 Central Avenue\, Louisville\, ky\, 40208
CATEGORIES:Fund,Fundraisers,History,Support
ATTACH;FMTTYPE=image/jpeg:https://portal.ketcloud.ket.org/20190716130708/ars-event-pic.jpg
GEO:38.2055867;-85.7708423
X-APPLE-STRUCTURED-LOCATION;VALUE=URI;X-ADDRESS=Kentucky Derby Museum 704 Central Avenue Louisville ky 40208;X-APPLE-RADIUS=500;X-TITLE=704 Central Avenue:geo:-85.7708423,38.2055867
END:VEVENT
BEGIN:VEVENT
DTSTART;TZID=America/Kentucky/Louisville:20190419T193000
DTEND;TZID=America/Kentucky/Louisville:20190419T213000
DTSTAMP:20260425T123633
CREATED:20190716T170137Z
LAST-MODIFIED:20190716T170137Z
UID:10000120-1555702200-1555709400@ket.org
SUMMARY:Celtic Woman: Ancient Land Tour
DESCRIPTION:Experience the Grammy® Nominated Celtic Woman on their all-new tour\, Ancient Land at the Louisville Palace in Louisville\, on Friday\, April 19\, 2019\, at 7:30 pm. Celebrating the centuries-old Irish tradition of telling stories through song: stories of the land\, stories of love\, and stories of dancing. Ancient Land is sure to capture the hearts of audiences everywhere. \nCeltic Woman combines the country’s finest musical talents with epic stage production to present a uniquely inspiring live experience. KET has the best seats in the house\, reserved for our donors before they went on sale to the public. For a one-time donation of $250 you can receive two tickets to Celtic Woman\, or for a $1200 donation\, you will receive two front-row tickets to the show with a preshow meet & greet opportunity with the ladies of Celtic Woman. Join KET and Celtic Woman for an evening of music you’ll treasure.
URL:https://ket.org/event/celtic-woman-ancient-land-tour/
LOCATION:Louisville Palace\, 625 S 4th St.\, Louisville\, 40202\, United States
CATEGORIES:Fund,Fundraisers,Performances,Support
ATTACH;FMTTYPE=image/jpeg:https://portal.ketcloud.ket.org/20190716130125/Celtic-Woman-Indoor.jpg
GEO:38.2480633;-85.7578437
X-APPLE-STRUCTURED-LOCATION;VALUE=URI;X-ADDRESS=Louisville Palace 625 S 4th St. Louisville 40202 United States;X-APPLE-RADIUS=500;X-TITLE=625 S 4th St.:geo:-85.7578437,38.2480633
END:VEVENT
BEGIN:VEVENT
DTSTART;TZID=America/Kentucky/Louisville:20190424T140000
DTEND;TZID=America/Kentucky/Louisville:20190424T180000
DTSTAMP:20260425T123633
CREATED:20190716T164240Z
LAST-MODIFIED:20191003T205151Z
UID:10000118-1556114400-1556128800@ket.org
SUMMARY:Daniel Tiger’s Neighborhood Live: King for a Day
DESCRIPTION:The grr-ific musical for little tigers and grown-ups alike is back! The hugely popular “Daniel Tiger’s Neighborhood” LIVE!\, based on the #1 PBS KIDS TV series\, has delighted live audiences on stages across the country. Now\, in its third year of touring\, your favorite characters are hopping back on board Trolley and coming to your town with DANIEL TIGER’S NEIGHBORHOOD LIVE: KING FOR A DAY!\, Daniel and all of his friends invite you for a brand-new adventure in Neighborhood of Make-Believe where Daniel learns just what it takes to be King. The beloved characters come alive on stage to captivate you with new songs to sing along to\, magical moments\, and SURPRISE guests along the way! It’s an event filled with tigertastic fun\, teaching the valuable lessons of kindness\, helping others\, and being a friend. Don’t miss Daniel Tiger’s Neighborhood LIVE: King for a Day… a royally great time! \nKET Family Fun Club members can get discounted tickets through January 31st (while supplies last)\, check your email for a special discount code or call our membership team at 1-800-866-0366 for details or to join the Family Fun Club. \nTWO SHOWS! April 24\, 2019\, at 2 pm & 6:30 pm\, Lexington Opera House
URL:https://ket.org/event/daniel-tigers-neighborhood-live-king-day/
LOCATION:Kentucky
CATEGORIES:Fund,Fundraisers,Kids,Living,Performances,Support
ATTACH;FMTTYPE=image/jpeg:https://portal.ketcloud.ket.org/20190716124209/DanielTigerKing4day.jpg
END:VEVENT
END:VCALENDAR