BEGIN:VCALENDAR
VERSION:2.0
PRODID:-//KET - ECPv6.15.20//NONSGML v1.0//EN
CALSCALE:GREGORIAN
METHOD:PUBLISH
X-WR-CALNAME:KET
X-ORIGINAL-URL:https://ket.org
X-WR-CALDESC:Events for KET
REFRESH-INTERVAL;VALUE=DURATION:PT1H
X-Robots-Tag:noindex
X-PUBLISHED-TTL:PT1H
BEGIN:VTIMEZONE
TZID:America/New_York
BEGIN:DAYLIGHT
TZOFFSETFROM:-0500
TZOFFSETTO:-0400
TZNAME:EDT
DTSTART:20190310T070000
END:DAYLIGHT
BEGIN:STANDARD
TZOFFSETFROM:-0400
TZOFFSETTO:-0500
TZNAME:EST
DTSTART:20191103T060000
END:STANDARD
BEGIN:DAYLIGHT
TZOFFSETFROM:-0500
TZOFFSETTO:-0400
TZNAME:EDT
DTSTART:20200308T070000
END:DAYLIGHT
BEGIN:STANDARD
TZOFFSETFROM:-0400
TZOFFSETTO:-0500
TZNAME:EST
DTSTART:20201101T060000
END:STANDARD
BEGIN:DAYLIGHT
TZOFFSETFROM:-0500
TZOFFSETTO:-0400
TZNAME:EDT
DTSTART:20210314T070000
END:DAYLIGHT
BEGIN:STANDARD
TZOFFSETFROM:-0400
TZOFFSETTO:-0500
TZNAME:EST
DTSTART:20211107T060000
END:STANDARD
END:VTIMEZONE
BEGIN:VEVENT
DTSTART;TZID=America/New_York:20200123T170000
DTEND;TZID=America/New_York:20200123T190000
DTSTAMP:20260419T085657
CREATED:20200107T202951Z
LAST-MODIFIED:20200113T151456Z
UID:53505-1579798800-1579806000@ket.org
SUMMARY:KET’s Kentucky Muse “Julius Friedman: Picture This” – Free Screening in Louisville
DESCRIPTION:A free screening: Julius Friedman: Picture This\, The Veil\, and Convergence Redux\nThe Filson Historical Society\nLouisville \nJoin KET at The Filson Historical Society in Louisville for Julius Friedman: Picture This\, The Veil\, and Convergence Redux – a free screening of three short documentaries on the life and work of the late artist Julius Friedman. “Julius Friedman: Picture This” is a documentary in KET’s Kentucky Muse\, a series that celebrates the world of creative output and spirit found within the Bluegrass state. \nFriedman was an internationally renowned artist\, producing a massive body of work ranging from innovative corporate designs to beautiful fine art pieces\, sometimes blurring the line between the two. KET’s documentary explores Friedman’s body of work and shows him at work on projects. \nThis event is free\, but reservations are required. \n\nRegister Now
URL:https://ket.org/event/screening-of-kets-kentucky-muse-julius-friedman-picture-this/
LOCATION:The Filson Historical Society\, 1310 S 3rd Street\, Louisville\, KY\, 40208\, United States
CATEGORIES:Arts,History,Kentucky,Living
ATTACH;FMTTYPE=image/jpeg:https://portal.ketcloud.ket.org/20200107144205/Julius-Friedman-Picture-This.jpg
ORGANIZER;CN="KET":MAILTO:events@ket.org
GEO:38.2322419;-85.7596263
X-APPLE-STRUCTURED-LOCATION;VALUE=URI;X-ADDRESS=The Filson Historical Society 1310 S 3rd Street Louisville KY 40208 United States;X-APPLE-RADIUS=500;X-TITLE=1310 S 3rd Street:geo:-85.7596263,38.2322419
END:VEVENT
END:VCALENDAR